BEGIN:VCALENDAR
VERSION:2.0
PRODID:-//ChamberMaster//Event Calendar 2.0//EN
METHOD:PUBLISH
X-PUBLISHED-TTL:P3D
REFRESH-INTERVAL:P3D
CALSCALE:GREGORIAN
BEGIN:VEVENT
DTSTART:20210311T210000Z
DTEND:20210311T230000Z
X-MICROSOFT-CDO-ALLDAYEVENT:FALSE
SUMMARY:Annual Celebration 2021
DESCRIPTION:This virtual event will feature Distinguished Service Awards\, an introduction to incoming LSCP CEO\, Sarah Lucas\, and a farewell to our longtime CEO\, Amy Clickner. Virtual networking will begin following the pre-recorded program. \nCheck out our online auction here! The silent auction will open Monday\, March 8 at 8:00 a.m. and close Friday\, March 12 at noon.
X-ALT-DESC;FMTTYPE=text/html:<span style="font-size:14px\;"><span style="font-family:arial\;"><span style="color: rgb(33\, 37\, 41)\;">This virtual event will feature Distinguished Service Awards\, an introduction to incoming LSCP CEO\, Sarah Lucas\, and a farewell to our longtime CEO\, Amy Clickner. Virtual networking will begin following the pre-recorded program.&nbsp\;</span></span></span>\n<p style="box-sizing: border-box\; margin-top: 0px\; margin-bottom: 1rem\; color: rgb(33\, 37\, 41)\; font-family: Lato\, -apple-system\, BlinkMacSystemFont\, &quot\;Segoe UI&quot\;\, Roboto\, &quot\;Helvetica Neue&quot\;\, Arial\, sans-serif\, &quot\;Apple Color Emoji&quot\;\, &quot\;Segoe UI Emoji&quot\;\, &quot\;Segoe UI Symbol&quot\;\; font-size: 15px\;"><span style="font-size:14px\;"><span style="font-family:arial\;"><a href="https://event.auctria.com/c52e2b0c-fcab-437a-af9d-069d3a9c193f/a780d600ec2e11e9ae081db830846aa5"><strong>Check out our online auction here!</strong></a> The silent auction will open Monday\, March 8 at 8:00 a.m. and close Friday\, March 12 at noon.</span></span></p>\n
LOCATION:Online - ZOOM (Distinguished Service Awards and CEO Transition) and REMO (Virtual Networking) The auction will open Monday\, March 8 at 8:00 a.m. and close Friday\, March 12 at noon. Don't have your login information? Since this is a free event\, feel free to register as a guest!
UID:e.1704.143277
SEQUENCE:3
DTSTAMP:20260422T190314Z
URL:https://business.marquette.org/events/details/annual-celebration-2021-143277
END:VEVENT

END:VCALENDAR
