BEGIN:VCALENDAR
VERSION:2.0
PRODID:-//ChamberMaster//Event Calendar 2.0//EN
METHOD:PUBLISH
X-PUBLISHED-TTL:P3D
REFRESH-INTERVAL:P3D
CALSCALE:GREGORIAN
BEGIN:VEVENT
DTSTART:20241016T210000Z
DTEND:20241016T230000Z
X-MICROSOFT-CDO-ALLDAYEVENT:FALSE
SUMMARY:Business After Hours: Honor Credit Union
DESCRIPTION:Business After Hours/Business showcase events are designed to help you make valuable business contacts\, entertain clients\, reward employees\, spend time with co-workers\, and most of all\, enjoy doing it at the area's premier networking opportunity. \n\n\n\nHere's a casual networking opportunity that's held at some of Marquette County's most interesting locations. Inexpensive and informal\, these early evening events are held from 5 - 7 pm and are ideal for meeting fellow professionals and establishing long-lasting business relationships. \n\n\n\nBusiness people are encouraged to attend and be prepared with a number of their business cards to pass. This event is open to Partnership members and non-members alike.
X-ALT-DESC;FMTTYPE=text/html:<span style="border:none windowtext 1.0pt\;padding:0in\;background:#EBEBEB\;"><span style="color:#444444\;"><span style="font-family:arial\,sans-serif\;"><span style="font-size:10.0pt\;">Business After Hours/Business showcase events are designed to help you make valuable business contacts\, entertain clients\, reward employees\, spend time with co-workers\, and most of all\, enjoy doing it at the area&rsquo\;s premier networking opportunity.&nbsp\;</span></span></span></span><br />\n<br />\n<span style="color:#444444\;"><span style="font-family:arial\,sans-serif\;"><span style="font-size:10.0pt\;"><span style="border:none windowtext 1.0pt\;padding:0in\;background:#EBEBEB\;">Here&#39\;s a casual networking opportunity that&#39\;s held at some of Marquette County&rsquo\;s most interesting locations. Inexpensive and informal\, these early evening events are held from 5 - 7 pm and are ideal for meeting fellow professionals and establishing long-lasting business relationships.&nbsp\;</span><br />\n<br />\n<span style="border:none windowtext 1.0pt\;padding:0in\;background:#EBEBEB\;">Business people are encouraged to attend and be prepared with a number of their business cards to pass. This event is open to Partnership members and non-members alike.</span></span></span></span><br />\n&nbsp\;
LOCATION:Honor Credit Union - 105 County Road 492\, Marquette\, MI 49855
UID:e.1704.143400
SEQUENCE:3
DTSTAMP:20260419T140135Z
URL:https://business.marquette.org/events/details/business-after-hours-honor-credit-union-143400
END:VEVENT

END:VCALENDAR
