BEGIN:VCALENDAR
VERSION:2.0
PRODID:-//ChamberMaster//Event Calendar 2.0//EN
METHOD:PUBLISH
X-PUBLISHED-TTL:P3D
REFRESH-INTERVAL:P3D
CALSCALE:GREGORIAN
BEGIN:VEVENT
DTSTART:20250825T150000Z
DTEND:20250825T190000Z
X-MICROSOFT-CDO-ALLDAYEVENT:FALSE
SUMMARY:Fall Fest 2025
DESCRIPTION:Fall Fest will take place on Monday\, August 25\, from 11:00 a.m.   3:00 p.m. (rain or shine)\n\nRegistration Deadline: August 18\, 2025 \n\n\n\nWhat is Fall Fest?\n\nFall Fest is a festival that allows businesses to introduce their product or service to the University community. Fall Fest is coordinated by the Lake Superior Community Partnership and the NMU Center for Student Enrichment.\n\n \n\nLocation\n\nThe Fall Fest location will be at the Northern Center Lawn this year. Directions will be emailed closer to the event.\n\n\n\nEarly Set Up\n\nSetup for businesses and nonprofits will be from 9:00 a.m.   10:00 a.m. Early setup will ensure your booth is ready for students by the beginning of the event\, potentially allowing you to get a good parking spot and work out any kinks you may experience!  \n\n\n\nIf you will have a large vehicle in your event space\, please reach out to the LSCP prior to registration so we can coordinate with NMU/Public Safety.\n\nParking: Parking is limited to one car per business as parking is limited and not guaranteed. A parking map and pass will be sent to the register's email a week before the event. \n\n\n\n\n\nBooth Space Details \n\nParticipating businesses and organizations will have a 'booth' space with an 8-foot table and two chairs. All booth spaces will have access to electricity. Please bring your own extension cord. In addition\, businesses may set up a canopy/tent.  Tents/canopies cannot exceed 10x10 ft. Food samples are encouraged. Purchasing of sales is not allowed. \n\n \n\nPepsi Beverage Company is the exclusive beverage provider on the campus of Northern Michigan University\; all beverages distributed\, marketed\, and/or advertised at Fall Fest must be from the Pepsi Beverage Company.\n\n\n\nAre you hiring? Let us know in the registration so that we can create a "We're hiring" sign for your booth!\n\n\n\n\n\nRefund Policy\n\nA full refund can be issued if cancellation occurs 7+ days before the event. No refunds past the registration deadline (one week before the event.)\n\n\n\nNonprofits: \n\nNonprofits recruiting student volunteers for upcoming (near future) events and programs may register at no cost through the NMU Center for Student Enrichment Volunteer Center by calling 906.227.2466 or by volctr@nmu.edu. However\, the fee will not be waived if their purpose for being at Fall Fest is recruiting patrons\, new members\, or other general promotions for their cause. Those who register for free through the NMU Center for Student Enrichment Volunteer Center will share a table with another non-profit. \n\n\n\nPlease call 906-226-6591 if you have any questions regarding the information above.
X-ALT-DESC;FMTTYPE=text/html:<p><span style="font-size:14px\;"><span style="font-size:16px\;"><strong><span style="border:none windowtext 1.0pt\;padding:0in\;background:#EBEBEB\;"><span style="color:#333333\;">Fall Fest will take place on&nbsp\;Monday\, August 25\, from 11:00 a.m. &ndash\; 3:00 p.m.&nbsp\;(rain or shine)</span></span></strong><br />\n<strong><span style="border:none windowtext 1.0pt\;padding:0in\;"><span style="color:#333333\;"><span style="background:#EBEBEB\;">Registration Deadline: August 18\, 2025&nbsp\;</span></span></span></strong></span><br />\n<br />\n<span style="font-size:16px\;"><strong><span style="border:none windowtext 1.0pt\;padding:0in\;background:#EBEBEB\;"><span style="color:#333333\;">What is Fall Fest?</span></span></strong></span><br />\n<span style="border:none windowtext 1.0pt\;padding:0in\;background:#EBEBEB\;"><span style="color:#333333\;">Fall Fest is a festival that allows businesses to introduce their product or service to the University community. Fall Fest is coordinated by the Lake Superior Community Partnership and the&nbsp\;<a href="https://nmu.edu/studentenrichment/fall-fest">NMU&nbsp\;Center for Student Enrichment</a>.</span></span><br />\n&nbsp\;<br />\n<span style="font-size:16px\;"><strong><span style="border:none windowtext 1.0pt\;padding:0in\;background:#EBEBEB\;"><span style="color:#333333\;">Location</span></span></strong></span><br />\n<span style="border:none windowtext 1.0pt\;padding:0in\;background:#EBEBEB\;"><span style="color:#333333\;">The Fall Fest location will be at the Northern Center Lawn this year. Directions will be emailed closer to the event.</span></span><br />\n<br />\n<span style="font-size:16px\;"><strong><span style="border:none windowtext 1.0pt\;padding:0in\;"><span style="color:#333333\;"><span style="background:#EBEBEB\;">Early Set Up</span></span></span></strong></span></span><br />\n<span style="font-size:14px\;"><strong><span style="border:none windowtext 1.0pt\;padding:0in\;"><span style="color:#333333\;"><span style="background:#EBEBEB\;">Setup for businesses and nonprofits will be from 9:00 a.m. &ndash\; 10:00 a.m.&nbsp\;Early setup will ensure your booth is ready for students by the beginning of the event\,&nbsp\;potentially&nbsp\;allowing you to get a good parking spot and work out any kinks you may experience!&nbsp\;&nbsp\;</span></span></span><br />\n<br />\nIf you will have a large vehicle in your event space\, please reach out to the LSCP prior to registration so we can coordinate with NMU/Public Safety.</strong><br />\n<span style="font-family:arial\;"><strong><span style="border:none windowtext 1.0pt\;padding:0in\;background:#EBEBEB\;"><span style="color:red\;">Parking: Parking is limited to one car per business as parking is limited&nbsp\;and not guaranteed. A parking map and pass will be sent to the register&#39\;s email a week before the event.&nbsp\;</span></span></strong></span><br />\n<br />\n<br />\n<span style="font-family:arial\;"><span style="font-size:16px\;"><strong><span style="border:none windowtext 1.0pt\;padding:0in\;background:#EBEBEB\;"><span style="color:#333333\;">Booth Space Details&nbsp\;</span></span></strong></span><br />\n<span style="border:none windowtext 1.0pt\;padding:0in\;background:#EBEBEB\;"><span style="color:#333333\;">Participating businesses and organizations will have a &#39\;booth&#39\; space with an 8-foot table and two chairs. All booth spaces will have access to electricity. Please bring your own extension cord. In addition\, businesses may set up a canopy/tent.&nbsp\; Tents/canopies cannot exceed&nbsp\;10x10&nbsp\;ft.&nbsp\;</span></span></span><strong style="font-family: arial\; font-size: 14px\; background-color: rgb(235\, 235\, 235)\;"><em>Food samples are encouraged. Purchasing of sales is not allowed.&nbsp\;</em></strong><br />\n<span style="font-family:arial\;"><span style="border:none windowtext 1.0pt\;padding:0in\;background:#EBEBEB\;"><span style="color:#333333\;">&nbsp\;<br />\n<em>Pepsi Beverage Company is the exclusive beverage provider on the campus of Northern Michigan University\; all beverages distributed\, marketed\, and/or advertised at Fall Fest must be from the Pepsi Beverage Company.</em><br />\n<br />\nAre you hiring? Let us know in the registration so that we can create a &quot\;We&#39\;re hiring&quot\; sign for your booth!</span></span><br />\n<br />\n<br />\n<strong><span style="border:none windowtext 1.0pt\;padding:0in\;background:#EBEBEB\;"><span style="color:#333333\;">Refund Policy</span></span></strong><br />\n<span style="border:none windowtext 1.0pt\;padding:0in\;background:#EBEBEB\;"><span style="color:#333333\;">A full refund can be issued if cancellation occurs&nbsp\;7+ days before the event. No refunds past the registration deadline (one week before the event.)<br />\n<br />\n<strong>Nonprofits:&nbsp\;</strong><br />\nNonprofits recruiting student volunteers for upcoming (near future) events and programs may register at no cost through the NMU </span></span></span><span style="color: rgb(51\, 51\, 51)\; font-family: arial\; background-color: rgb(235\, 235\, 235)\;">Center for Student Enrichment Volunteer Center</span><span style="font-family:arial\;"><span style="border:none windowtext 1.0pt\;padding:0in\;background:#EBEBEB\;"><span style="color:#333333\;"> by calling&nbsp\;906.227.2466&nbsp\;or by&nbsp\;</span></span><a href="mailto:volctr@nmu.edu" target="_blank"><span style="border:none windowtext 1.0pt\;padding:0in\;background:#EBEBEB\;"><span style="color:#333333\;">volctr@nmu.edu</span></span></a><span style="border:none windowtext 1.0pt\;padding:0in\;background:#EBEBEB\;"><span style="color:#333333\;">. However\, the fee will not be waived if their purpose for being at Fall Fest is recruiting patrons\, new members\, or other general promotions for their cause.&nbsp\;</span></span><strong>Those who register for free through the <span style="border: 1pt none windowtext\; padding: 0in\; background: rgb(235\, 235\, 235)\;">NMU&nbsp\;</span></strong></span><strong><span style="font-family: arial\; background-color: rgb(235\, 235\, 235)\;">Center for Student Enrichment Volunteer Center</span></strong><span style="font-family:arial\;"><strong><strong> </strong>will share a table with another non-profit.&nbsp\;</strong><br />\n<br />\n<span style="border:none windowtext 1.0pt\;padding:0in\;background:#EBEBEB\;"><span style="color:#333333\;">Please call 906-226-6591 if you have any questions regarding the information above.&nbsp\;</span></span></span></span></p>\n
LOCATION:Northern Michigan University NMU Northern Center Lawn 1401 Presque Isle Avenue Marquette\, MI 49855
UID:e.1704.143464
SEQUENCE:3
DTSTAMP:20260425T134713Z
URL:https://business.marquette.org/events/details/fall-fest-2025-143464
END:VEVENT

END:VCALENDAR
