BEGIN:VCALENDAR
VERSION:2.0
PRODID:-//ChamberMaster//Event Calendar 2.0//EN
METHOD:PUBLISH
X-PUBLISHED-TTL:P3D
REFRESH-INTERVAL:P3D
CALSCALE:GREGORIAN
BEGIN:VEVENT
DTSTART:20250130T133000Z
DTEND:20250130T150000Z
X-MICROSOFT-CDO-ALLDAYEVENT:FALSE
SUMMARY:Match on Main Grant Overview with the MEDC
DESCRIPTION:Michigan Economic Development Corporation representatives join the LSCP to provide eligible businesses with an overview of information for the Match on Main grant opportunity. Businesses within the DDA District of the City of Ishpeming or Negaunee are eligible and invited to join! \n\nLearn more about the grant at marquette.org/mom\n\n\n\nWhile this is primarily an in-person event\, attendees are invited to join online as needed by using this Zoom link.
X-ALT-DESC;FMTTYPE=text/html:Michigan Economic Development Corporation representatives join the LSCP to provide eligible businesses with an overview of information for the Match on Main grant opportunity. Businesses within the DDA District of the City of Ishpeming or Negaunee are eligible and invited to join!&nbsp\;<br />\nLearn more about the grant at <a href="https://marquette.org/business-resources/mom/">marquette.org/mom</a><br />\n<br />\nWhile this is primarily an in-person event\, attendees are invited to join online as needed by using this <a href="https://us06web.zoom.us/j/81908065788?pwd=ghM9PFTh6tfdIcqkXFiA7nENlcabsG.1">Zoom link</a>.&nbsp\;
LOCATION:West End Economic Hub 910 US Highway 41 W\, Ishpeming\, MI
UID:e.1704.143453
SEQUENCE:3
DTSTAMP:20260419T134013Z
URL:https://business.marquette.org/events/details/match-on-main-grant-overview-with-the-medc-143453
END:VEVENT

END:VCALENDAR
