BEGIN:VCALENDAR
VERSION:2.0
PRODID:-//ChamberMaster//Event Calendar 2.0//EN
METHOD:PUBLISH
X-PUBLISHED-TTL:P3D
REFRESH-INTERVAL:P3D
CALSCALE:GREGORIAN
BEGIN:VEVENT
DTSTART:20211026T163000Z
DTEND:20211026T170000Z
X-MICROSOFT-CDO-ALLDAYEVENT:FALSE
SUMMARY:Partner Perspectives
DESCRIPTION:Register here\n\n\n\nJoin us for a casual conversation with founding Lake Superior Community Partnership (LSCP) Board Member\, Don Ryan. Hear about the history of the LSCP\, a special update on what is going on in the LSCP and a brief update on TV6/FOX UP.\n\n\n\nThis Q and A interview will give you the chance to submit questions live via the chat button. With a start time of 12:30 p.m. we encourage everyone to get takeout for lunch from a local restaurant before the event. Check out these recommendations!\n\n\n\nTo submit questions prior to the webinar\, email Megan O'Connor at megan@marquette.org.
X-ALT-DESC;FMTTYPE=text/html:<span style="font-size: 12px\; font-family: arial\;"><span style="font-size: 16px\;"><strong>Register&nbsp\;<a href="https://us06web.zoom.us/webinar/register/WN_6AF7oOVoQCKpMT-qN1hsCQ"><u>here</u></a></strong></span></span><br style="font-size: 12px\;" />\n<br style="font-size: 12px\;" />\n<span style="color: rgb(35\, 35\, 51)\; font-family: Lato\, Helvetica\, Arial\; font-size: 14px\;">Join us for a casual conversation with founding Lake Superior Community Partnership (LSCP) Board Member\, Don Ryan. Hear about the history of the LSCP\, a special update on what is going on in the LSCP and a brief update on TV6/FOX UP.</span><br style="box-sizing: border-box\; color: rgb(35\, 35\, 51)\; font-family: Lato\, Helvetica\, Arial\; font-size: 14px\;" />\n<br style="box-sizing: border-box\; color: rgb(35\, 35\, 51)\; font-family: Lato\, Helvetica\, Arial\; font-size: 14px\;" />\n<span style="color: rgb(35\, 35\, 51)\; font-family: Lato\, Helvetica\, Arial\; font-size: 14px\;">This Q and A interview will give you the chance to submit questions live via the chat button. With a start time of 12:30 p.m. we encourage everyone to get takeout for lunch from a local restaurant before the event. <a href="https://business.marquette.org/list/ql/restaurants-food-beverages-22">Check out these recommendations!</a></span><br style="box-sizing: border-box\; color: rgb(35\, 35\, 51)\; font-family: Lato\, Helvetica\, Arial\; font-size: 14px\;" />\n<br style="box-sizing: border-box\; color: rgb(35\, 35\, 51)\; font-family: Lato\, Helvetica\, Arial\; font-size: 14px\;" />\n<span style="color: rgb(35\, 35\, 51)\; font-family: Lato\, Helvetica\, Arial\; font-size: 14px\;">To submit questions prior to the webinar\, email Megan O&rsquo\;Connor at megan@marquette.org.</span>
LOCATION:
UID:e.1704.143298
SEQUENCE:3
DTSTAMP:20260421T085815Z
URL:https://business.marquette.org/events/details/partner-perspectives-143298
END:VEVENT

END:VCALENDAR
