BEGIN:VCALENDAR
VERSION:2.0
PRODID:-//ChamberMaster//Event Calendar 2.0//EN
METHOD:PUBLISH
X-PUBLISHED-TTL:P3D
REFRESH-INTERVAL:P3D
CALSCALE:GREGORIAN
BEGIN:VEVENT
DTSTART:20020904T040000Z
DTEND:20020905T040000Z
X-MICROSOFT-CDO-ALLDAYEVENT:FALSE
SUMMARY:U.P. Educator/Legislative Conference
DESCRIPTION:This annual conference will be held at the Holiday Inn on the 4th and at Northern Michigan University on the 5th.  For details on this event\, please contact Marquette-Alger RESA at 226-5100.
X-ALT-DESC;FMTTYPE=text/html:This annual conference will be held at the Holiday Inn on the 4th and at Northern Michigan University on the 5th.  For details on this event\, please contact Marquette-Alger RESA at 226-5100.
LOCATION:Marquette
UID:e.1704.48105
SEQUENCE:3
DTSTAMP:20260422T110157Z
URL:https://business.marquette.org/events/details/u-p-educator-legislative-conference-09-04-2002-48105
END:VEVENT

END:VCALENDAR
