BEGIN:VCALENDAR
VERSION:2.0
PRODID:-//ChamberMaster//Event Calendar 2.0//EN
METHOD:PUBLISH
X-PUBLISHED-TTL:P3D
REFRESH-INTERVAL:P3D
CALSCALE:GREGORIAN
BEGIN:VEVENT
DTSTART:20030305T210000Z
DTEND:20030305T210000Z
X-MICROSOFT-CDO-ALLDAYEVENT:FALSE
SUMMARY:U.S. National Ski Hall of Fame Night
DESCRIPTION:Not only will participants be scored based on points awarded by time and age handicap\, but instead they will be scored on the age of their skis.  The older your equipment\, the better your handicap.  For more information call Marquette Mountain at 225-1155.
X-ALT-DESC;FMTTYPE=text/html:Not only will participants be scored based on points awarded by time and age handicap\, but instead they will be scored on the age of their skis.  The older your equipment\, the better your handicap.  For more information call Marquette Mountain at 225-1155.
LOCATION:Marquette Mountain
UID:e.1704.52709
SEQUENCE:3
DTSTAMP:20260421T222644Z
URL:https://business.marquette.org/events/details/u-s-national-ski-hall-of-fame-night-03-05-2003-52709
END:VEVENT

END:VCALENDAR
