BEGIN:VCALENDAR
VERSION:2.0
PRODID:-//ChamberMaster//Event Calendar 2.0//EN
METHOD:PUBLISH
X-PUBLISHED-TTL:P3D
REFRESH-INTERVAL:P3D
CALSCALE:GREGORIAN
BEGIN:VEVENT
DTSTART:20010915T170000Z
DTEND:20010915T170000Z
X-MICROSOFT-CDO-ALLDAYEVENT:FALSE
SUMMARY:United Methodist Bazaar
DESCRIPTION:The bazaar will feature handwork\, baked goods\, coffee\, tea and goodies to enjoy while visiting friends.
X-ALT-DESC;FMTTYPE=text/html:The bazaar will feature handwork\, baked goods\, coffee\, tea and goodies to enjoy while visiting friends.
LOCATION:United Methodist Church - Ishpeming
UID:e.1704.45773
SEQUENCE:3
DTSTAMP:20260423T110325Z
URL:https://business.marquette.org/events/details/united-methodist-bazaar-09-15-2001-45773
END:VEVENT

END:VCALENDAR
