BEGIN:VCALENDAR
VERSION:2.0
PRODID:-//ChamberMaster//Event Calendar 2.0//EN
METHOD:PUBLISH
X-PUBLISHED-TTL:P3D
REFRESH-INTERVAL:P3D
CALSCALE:GREGORIAN
BEGIN:VEVENT
DTSTART:20010727T150000Z
DTEND:20010727T150000Z
X-MICROSOFT-CDO-ALLDAYEVENT:FALSE
SUMMARY:United Way and Econo Foods Luncheon
DESCRIPTION:The cost is $1 for lunch. For more information please call 226-3500.
X-ALT-DESC;FMTTYPE=text/html:The cost is $1 for lunch. For more information please call 226-3500.
LOCATION:Econo Foods in Marquette
UID:e.1704.45425
SEQUENCE:3
DTSTAMP:20260423T181644Z
URL:https://business.marquette.org/events/details/united-way-and-econo-foods-luncheon-07-27-2001-45425
END:VEVENT

END:VCALENDAR
