BEGIN:VCALENDAR
VERSION:2.0
PRODID:-//ChamberMaster//Event Calendar 2.0//EN
METHOD:PUBLISH
X-PUBLISHED-TTL:P3D
REFRESH-INTERVAL:P3D
CALSCALE:GREGORIAN
BEGIN:VEVENT
DTSTART:20020607T040000Z
DTEND:20020609T040000Z
X-MICROSOFT-CDO-ALLDAYEVENT:FALSE
SUMMARY:UP American Legion Convention
DESCRIPTION:For more information on this event please call Mike Trickey at 225-0781.
X-ALT-DESC;FMTTYPE=text/html:For more information on this event please call Mike Trickey at 225-0781.
LOCATION:Ramada Inn
UID:e.1704.47777
SEQUENCE:3
DTSTAMP:20260422T190132Z
URL:https://business.marquette.org/events/details/up-american-legion-convention-06-07-2002-47777
END:VEVENT

END:VCALENDAR
