BEGIN:VCALENDAR
VERSION:2.0
PRODID:-//ChamberMaster//Event Calendar 2.0//EN
METHOD:PUBLISH
X-PUBLISHED-TTL:P3D
REFRESH-INTERVAL:P3D
CALSCALE:GREGORIAN
BEGIN:VEVENT
DTSTART:20010720T040000Z
DTEND:20010722T040000Z
X-MICROSOFT-CDO-ALLDAYEVENT:FALSE
SUMMARY:UP Championship Rodeo
DESCRIPTION:For more information please call 1-888-TRY-IRON.
X-ALT-DESC;FMTTYPE=text/html:For more information please call 1-888-TRY-IRON.
LOCATION:Iron County Fair Grounds
UID:e.1704.44625
SEQUENCE:3
DTSTAMP:20260423T170549Z
URL:https://business.marquette.org/events/details/up-championship-rodeo-07-20-2001-44625
END:VEVENT

END:VCALENDAR
