BEGIN:VCALENDAR
VERSION:2.0
PRODID:-//ChamberMaster//Event Calendar 2.0//EN
METHOD:PUBLISH
X-PUBLISHED-TTL:P3D
REFRESH-INTERVAL:P3D
CALSCALE:GREGORIAN
BEGIN:VEVENT
DTSTART:20010804T040000Z
DTEND:20010804T040000Z
X-MICROSOFT-CDO-ALLDAYEVENT:FALSE
SUMMARY:UP Gospel Festival
DESCRIPTION:For more information please call (906) 228-6439.
X-ALT-DESC;FMTTYPE=text/html:For more information please call (906) 228-6439.
LOCATION:Lower Harbor Park
UID:e.1704.44965
SEQUENCE:3
DTSTAMP:20260423T170954Z
URL:https://business.marquette.org/events/details/up-gospel-festival-08-04-2001-44965
END:VEVENT

END:VCALENDAR
