BEGIN:VCALENDAR
VERSION:2.0
PRODID:-//ChamberMaster//Event Calendar 2.0//EN
METHOD:PUBLISH
X-PUBLISHED-TTL:P3D
REFRESH-INTERVAL:P3D
CALSCALE:GREGORIAN
BEGIN:VEVENT
DTSTART:20010504T040000Z
DTEND:20010506T040000Z
X-MICROSOFT-CDO-ALLDAYEVENT:FALSE
SUMMARY:UP Lions Club Convention
DESCRIPTION:
X-ALT-DESC;FMTTYPE=text/html:
LOCATION:Negaunee
UID:e.1704.44045
SEQUENCE:3
DTSTAMP:20260423T211807Z
URL:https://business.marquette.org/events/details/up-lions-club-convention-05-04-2001-44045
END:VEVENT

END:VCALENDAR
