BEGIN:VCALENDAR
VERSION:2.0
PRODID:-//ChamberMaster//Event Calendar 2.0//EN
METHOD:PUBLISH
X-PUBLISHED-TTL:P3D
REFRESH-INTERVAL:P3D
CALSCALE:GREGORIAN
BEGIN:VEVENT
DTSTART:20011124T140000Z
DTEND:20011124T140000Z
X-MICROSOFT-CDO-ALLDAYEVENT:FALSE
SUMMARY:Up North Expo
DESCRIPTION:What a great time to buy christmas gifts! You can save up to 50% and win door prizes just by attending.  There will be fine jewlery\, hunting equipment\, toys\, antiques and much much more!
X-ALT-DESC;FMTTYPE=text/html:What a great time to buy christmas gifts! You can save up to 50% and win door prizes just by attending.  There will be fine jewlery\, hunting equipment\, toys\, antiques and much much more!
LOCATION:Holiday Inn Convention Center
UID:e.1704.46745
SEQUENCE:3
DTSTAMP:20260423T085507Z
URL:https://business.marquette.org/events/details/up-north-expo-11-24-2001-46745
END:VEVENT

END:VCALENDAR
