BEGIN:VCALENDAR
VERSION:2.0
PRODID:-//ChamberMaster//Event Calendar 2.0//EN
METHOD:PUBLISH
X-PUBLISHED-TTL:P3D
REFRESH-INTERVAL:P3D
CALSCALE:GREGORIAN
BEGIN:VEVENT
DTSTART:20010710T180000Z
DTEND:20010710T180000Z
X-MICROSOFT-CDO-ALLDAYEVENT:FALSE
SUMMARY:UP Regional Blood Drive
DESCRIPTION:The blood that you donate serves 10 UP Hospitals. This will be held at the Trenary Community Building. For more information or to schedule an appointment\, call Bill Jasko at (906) 446-3466.
X-ALT-DESC;FMTTYPE=text/html:The blood that you donate serves 10 UP Hospitals. This will be held at the Trenary Community Building. For more information or to schedule an appointment\, call Bill Jasko at (906) 446-3466.
LOCATION:Trenanry
UID:e.1704.45161
SEQUENCE:3
DTSTAMP:20260423T170701Z
URL:https://business.marquette.org/events/details/up-regional-blood-drive-07-10-2001-45161
END:VEVENT

END:VCALENDAR
