BEGIN:VCALENDAR
VERSION:2.0
PRODID:-//ChamberMaster//Event Calendar 2.0//EN
METHOD:PUBLISH
X-PUBLISHED-TTL:P3D
REFRESH-INTERVAL:P3D
CALSCALE:GREGORIAN
BEGIN:VEVENT
DTSTART:20011009T180000Z
DTEND:20011009T180000Z
X-MICROSOFT-CDO-ALLDAYEVENT:FALSE
SUMMARY:Up Regional Blood Drive
DESCRIPTION:Blood donated at this blood drive serves 11 Up Hospitals.  All extra will be sent to place that are in need of the blood\, such as New York City. For more information or to schedule an appointment\, please call Brenda Heikkila at 942-7221.
X-ALT-DESC;FMTTYPE=text/html:Blood donated at this blood drive serves 11 Up Hospitals.  All extra will be sent to place that are in need of the blood\, such as New York City. For more information or to schedule an appointment\, please call Brenda Heikkila at 942-7221.
LOCATION:West Branch First Responders - Skandia
UID:e.1704.45921
SEQUENCE:3
DTSTAMP:20260423T110723Z
URL:https://business.marquette.org/events/details/up-regional-blood-drive-10-09-2001-45921
END:VEVENT

END:VCALENDAR
