BEGIN:VCALENDAR
VERSION:2.0
PRODID:-//ChamberMaster//Event Calendar 2.0//EN
METHOD:PUBLISH
X-PUBLISHED-TTL:P3D
REFRESH-INTERVAL:P3D
CALSCALE:GREGORIAN
BEGIN:VEVENT
DTSTART:20020427T220000Z
DTEND:20020427T220000Z
X-MICROSOFT-CDO-ALLDAYEVENT:FALSE
SUMMARY:UP Sports Hall of Fame Induction Banquet
DESCRIPTION:Tickets for the 31st Annual Upper Peninsula Sports Hall of Fame induction banquet are now available and must be purchased by April 22\, 2002.  Tickets cost $15 and are available by calling Karen Helmila at 228-2137 or Pete Meli at 475-4858.
X-ALT-DESC;FMTTYPE=text/html:Tickets for the 31st Annual Upper Peninsula Sports Hall of Fame induction banquet are now available and must be purchased by April 22\, 2002.  Tickets cost $15 and are available by calling Karen Helmila at 228-2137 or Pete Meli at 475-4858.
LOCATION:Northern Michigan University
UID:e.1704.48317
SEQUENCE:3
DTSTAMP:20260422T223425Z
URL:https://business.marquette.org/events/details/up-sports-hall-of-fame-induction-banquet-04-27-2002-48317
END:VEVENT

END:VCALENDAR
