BEGIN:VCALENDAR
VERSION:2.0
PRODID:-//ChamberMaster//Event Calendar 2.0//EN
METHOD:PUBLISH
X-PUBLISHED-TTL:P3D
REFRESH-INTERVAL:P3D
CALSCALE:GREGORIAN
BEGIN:VEVENT
DTSTART:20020423T113000Z
DTEND:20020423T113000Z
X-MICROSOFT-CDO-ALLDAYEVENT:FALSE
SUMMARY:UP Waste Reduction & Energy Efficiency Workshop
DESCRIPTION:This workshop is specifically designed for Michigan's Upper Peninsula companies and organizations that want to save money by using energy efficiently and reducing solid and hazardous waste generated by their business operations.  Employees of manufacturing firms\, wastewater treatment plants\, municipalities\, academia\, consulting firms\, public utilities and economic development organizations will want to attend!   For more information on this workshop\, please call (800) 662-9278 or register on-line at www.michigan.gov/deq and click on "information & news"\, "outreach & training" and then "workshops".
X-ALT-DESC;FMTTYPE=text/html:This workshop is specifically designed for Michigan's Upper Peninsula companies and organizations that want to save money by using energy efficiently and reducing solid and hazardous waste generated by their business operations.  Employees of manufacturing firms\, wastewater treatment plants\, municipalities\, academia\, consulting firms\, public utilities and economic development organizations will want to attend!   For more information on this workshop\, please call (800) 662-9278 or register on-line at www.michigan.gov/deq and click on "information & news"\, "outreach & training" and then "workshops".
LOCATION:Marquette Holiday Inn
UID:e.1704.47413
SEQUENCE:3
DTSTAMP:20260422T222917Z
URL:https://business.marquette.org/events/details/up-waste-reduction-energy-efficiency-workshop-04-23-2002-47413
END:VEVENT

END:VCALENDAR
