BEGIN:VCALENDAR
VERSION:2.0
PRODID:-//ChamberMaster//Event Calendar 2.0//EN
METHOD:PUBLISH
X-PUBLISHED-TTL:P3D
REFRESH-INTERVAL:P3D
CALSCALE:GREGORIAN
BEGIN:VEVENT
DTSTART:20020905T150000Z
DTEND:20020905T150000Z
X-MICROSOFT-CDO-ALLDAYEVENT:FALSE
SUMMARY:Upper Peninsula Economic Development Alliance Workshop
DESCRIPTION:UPEDA serves all 15 counties of the Upper Peninsula in an effort to promote planned sustained economic development in the the U.P.  Jim Haslinger will discuss bidding on and selling to the government for projects.  Kathy Salow will present labor market information and John Avery will conduct a regional needs assessment.\nStakeholders in the economic health of the U.P. are encouraged to attend as guests.  Reservations are required and can be made by calling Karen Olsen at 906 235-0108 no later than Friday\, Aug30th.
X-ALT-DESC;FMTTYPE=text/html:UPEDA serves all 15 counties of the Upper Peninsula in an effort to promote planned sustained economic development in the the U.P.  Jim Haslinger will discuss bidding on and selling to the government for projects.  Kathy Salow will present labor market information and John Avery will conduct a regional needs assessment.\nStakeholders in the economic health of the U.P. are encouraged to attend as guests.  Reservations are required and can be made by calling Karen Olsen at 906 235-0108 no later than Friday\, Aug30th.
LOCATION:Kinross Charter Township Hall in Kincheloe
UID:e.1704.50421
SEQUENCE:3
DTSTAMP:20260422T111112Z
URL:https://business.marquette.org/events/details/upper-peninsula-economic-development-alliance-workshop-09-05-2002-50421
END:VEVENT

END:VCALENDAR
