BEGIN:VCALENDAR
VERSION:2.0
PRODID:-//ChamberMaster//Event Calendar 2.0//EN
METHOD:PUBLISH
X-PUBLISHED-TTL:P3D
REFRESH-INTERVAL:P3D
CALSCALE:GREGORIAN
BEGIN:VEVENT
DTSTART:20020405T050000Z
DTEND:20020407T050000Z
X-MICROSOFT-CDO-ALLDAYEVENT:FALSE
SUMMARY:Upper Peninsula Recreation Show
DESCRIPTION:Come to the annual Upper Peninsula recreation show to view the latest in camping\, fishing and hunting equipment.  Also see the newest boats\, motors\, personal watercraft\, snowmobiles\, motorcycles\, ATVs\, bicycles\, golf equipment\, clothing and more!  On Friday\, the show will run from 1 - 9 pm\; Saturday from 11 am - 9 pm and on SUnday from 11 am - 4 pm.  Admission is $2 for adults and $1 for seniors\, children under 14 get in free with a parent.
X-ALT-DESC;FMTTYPE=text/html:Come to the annual Upper Peninsula recreation show to view the latest in camping\, fishing and hunting equipment.  Also see the newest boats\, motors\, personal watercraft\, snowmobiles\, motorcycles\, ATVs\, bicycles\, golf equipment\, clothing and more!  On Friday\, the show will run from 1 - 9 pm\; Saturday from 11 am - 9 pm and on SUnday from 11 am - 4 pm.  Admission is $2 for adults and $1 for seniors\, children under 14 get in free with a parent.
LOCATION:Lakeview Arena
UID:e.1704.47201
SEQUENCE:3
DTSTAMP:20260422T223002Z
URL:https://business.marquette.org/events/details/upper-peninsula-recreation-show-04-05-2002-47201
END:VEVENT

END:VCALENDAR
