BEGIN:VCALENDAR
VERSION:2.0
PRODID:-//ChamberMaster//Event Calendar 2.0//EN
METHOD:PUBLISH
X-PUBLISHED-TTL:P3D
REFRESH-INTERVAL:P3D
CALSCALE:GREGORIAN
BEGIN:VEVENT
DTSTART:20020425T040000Z
DTEND:20020427T040000Z
X-MICROSOFT-CDO-ALLDAYEVENT:FALSE
SUMMARY:Used Book Sale
DESCRIPTION:The Marquette Branch of the Association of University Women is once again preparing for their annual used book sale.  For more information please call 225-0091 or 228-8028.
X-ALT-DESC;FMTTYPE=text/html:The Marquette Branch of the Association of University Women is once again preparing for their annual used book sale.  For more information please call 225-0091 or 228-8028.
LOCATION:
UID:e.1704.47613
SEQUENCE:3
DTSTAMP:20260422T223229Z
URL:https://business.marquette.org/events/details/used-book-sale-04-25-2002-47613
END:VEVENT

END:VCALENDAR
