BEGIN:VCALENDAR
VERSION:2.0
PRODID:-//ChamberMaster//Event Calendar 2.0//EN
METHOD:PUBLISH
X-PUBLISHED-TTL:P3D
REFRESH-INTERVAL:P3D
CALSCALE:GREGORIAN
BEGIN:VEVENT
DTSTART:20020323T050000Z
DTEND:20020324T050000Z
X-MICROSOFT-CDO-ALLDAYEVENT:FALSE
SUMMARY:USSA Region 2 Race
DESCRIPTION:Please call the Mounatin or visit their web site at www.marquettemountain.com for more information.
X-ALT-DESC;FMTTYPE=text/html:Please call the Mounatin or visit their web site at www.marquettemountain.com for more information.
LOCATION:Marquette Mountain
UID:e.1704.47865
SEQUENCE:3
DTSTAMP:20260423T012234Z
URL:https://business.marquette.org/events/details/ussa-region-2-race-03-23-2002-47865
END:VEVENT

END:VCALENDAR
