BEGIN:VCALENDAR
VERSION:2.0
PRODID:-//ChamberMaster//Event Calendar 2.0//EN
METHOD:PUBLISH
X-PUBLISHED-TTL:P3D
REFRESH-INTERVAL:P3D
CALSCALE:GREGORIAN
BEGIN:VEVENT
DTSTART:20030215T180000Z
DTEND:20030215T180000Z
X-MICROSOFT-CDO-ALLDAYEVENT:FALSE
SUMMARY:Valentine's Couples Ski and Snowshoe
DESCRIPTION:The afternoon will begin with hot cider and treats and finish with a gourmet reception.  Events will be judged throughout the day for prizes and at the end of the evening a drawing will held for a special grand prize.  You must be 21 to participate\, space is limited to the first 50 couples to register.  For more information contact Janet at koistenenj@michigan.gov.  or call the U.S. National Ski Hall of Fame at 485-6323.
X-ALT-DESC;FMTTYPE=text/html:The afternoon will begin with hot cider and treats and finish with a gourmet reception.  Events will be judged throughout the day for prizes and at the end of the evening a drawing will held for a special grand prize.  You must be 21 to participate\, space is limited to the first 50 couples to register.  For more information contact Janet at koistenenj@michigan.gov.  or call the U.S. National Ski Hall of Fame at 485-6323.
LOCATION:Al Quaal Recreation Area and The U.S. National Ski Hall of Fame
UID:e.1704.51465
SEQUENCE:3
DTSTAMP:20260421T221924Z
URL:https://business.marquette.org/events/details/valentine-s-couples-ski-and-snowshoe-02-15-2003-51465
END:VEVENT

END:VCALENDAR
