BEGIN:VCALENDAR
VERSION:2.0
PRODID:-//ChamberMaster//Event Calendar 2.0//EN
METHOD:PUBLISH
X-PUBLISHED-TTL:P3D
REFRESH-INTERVAL:P3D
CALSCALE:GREGORIAN
BEGIN:VEVENT
DTSTART:20020210T010000Z
DTEND:20020210T010000Z
X-MICROSOFT-CDO-ALLDAYEVENT:FALSE
SUMMARY:Valentine Soiree
DESCRIPTION:The cost to attend this event is $20. For more information or to register please contact Wayne or Diane at 227-2194.
X-ALT-DESC;FMTTYPE=text/html:The cost to attend this event is $20. For more information or to register please contact Wayne or Diane at 227-2194.
LOCATION:NMU Lee Hall Gallery
UID:e.1704.46557
SEQUENCE:3
DTSTAMP:20260423T024509Z
URL:https://business.marquette.org/events/details/valentine-soiree-02-09-2002-46557
END:VEVENT

END:VCALENDAR
