BEGIN:VCALENDAR
VERSION:2.0
PRODID:-//ChamberMaster//Event Calendar 2.0//EN
METHOD:PUBLISH
X-PUBLISHED-TTL:P3D
REFRESH-INTERVAL:P3D
CALSCALE:GREGORIAN
BEGIN:VEVENT
DTSTART:20020726T150000Z
DTEND:20020726T150000Z
X-MICROSOFT-CDO-ALLDAYEVENT:FALSE
SUMMARY:Van Riper State Park Dart Tournament
DESCRIPTION:This year marks the Seventh Annual Van Riper State Park Dart Tournament.  The blind draw tourney will be at 7 pm on Friday and the major event will begin at 11 am on the 27th.  There will be a Women's 501 Singles competition\, a Men's Cricket competition at 12 noon\, Mixed Double Cricket competition at 3 pm and Mixed Triples Blind Draw at 6 pm.  For more information\, please contact Eldon at 485-5967.
X-ALT-DESC;FMTTYPE=text/html:This year marks the Seventh Annual Van Riper State Park Dart Tournament.  The blind draw tourney will be at 7 pm on Friday and the major event will begin at 11 am on the 27th.  There will be a Women's 501 Singles competition\, a Men's Cricket competition at 12 noon\, Mixed Double Cricket competition at 3 pm and Mixed Triples Blind Draw at 6 pm.  For more information\, please contact Eldon at 485-5967.
LOCATION:Van Riper State Park
UID:e.1704.49777
SEQUENCE:3
DTSTAMP:20260422T190212Z
URL:https://business.marquette.org/events/details/van-riper-state-park-dart-tournament-07-26-2002-49777
END:VEVENT

END:VCALENDAR
