BEGIN:VCALENDAR
VERSION:2.0
PRODID:-//ChamberMaster//Event Calendar 2.0//EN
METHOD:PUBLISH
X-PUBLISHED-TTL:P3D
REFRESH-INTERVAL:P3D
CALSCALE:GREGORIAN
BEGIN:VEVENT
DTSTART:20020828T040000Z
DTEND:20020903T040000Z
X-MICROSOFT-CDO-ALLDAYEVENT:FALSE
SUMMARY:Vietnam Veteran Memorial Moving Wall
DESCRIPTION:Vietnam Veteran Memorial moving wall
X-ALT-DESC;FMTTYPE=text/html:Vietnam Veteran Memorial moving wall
LOCATION:Sand Point - Off US41 by Ojibwa Marina in Baraga\, MI
UID:e.1704.50225
SEQUENCE:3
DTSTAMP:20260422T111302Z
URL:https://business.marquette.org/events/details/vietnam-veteran-memorial-moving-wall-08-28-2002-50225
END:VEVENT

END:VCALENDAR
