BEGIN:VCALENDAR
VERSION:2.0
PRODID:-//ChamberMaster//Event Calendar 2.0//EN
METHOD:PUBLISH
X-PUBLISHED-TTL:P3D
REFRESH-INTERVAL:P3D
CALSCALE:GREGORIAN
BEGIN:VEVENT
DTSTART:20020907T040000Z
DTEND:20020908T040000Z
X-MICROSOFT-CDO-ALLDAYEVENT:FALSE
SUMMARY:Vintage Photo Event
DESCRIPTION:INVU Portraits will provide imaginative props and clothing to produce memorable vintage black and white sepia (brown tone) hand colored portraits.  To schedule your free sitting\, stop by Younkers or call them at 228-6011.  (Ask for the Children's Department.)
X-ALT-DESC;FMTTYPE=text/html:INVU Portraits will provide imaginative props and clothing to produce memorable vintage black and white sepia (brown tone) hand colored portraits.  To schedule your free sitting\, stop by Younkers or call them at 228-6011.  (Ask for the Children's Department.)
LOCATION:Younkers
UID:e.1704.50605
SEQUENCE:3
DTSTAMP:20260422T110439Z
URL:https://business.marquette.org/events/details/vintage-photo-event-09-07-2002-50605
END:VEVENT

END:VCALENDAR
