BEGIN:VCALENDAR
VERSION:2.0
PRODID:-//ChamberMaster//Event Calendar 2.0//EN
METHOD:PUBLISH
X-PUBLISHED-TTL:P3D
REFRESH-INTERVAL:P3D
CALSCALE:GREGORIAN
BEGIN:VEVENT
DTSTART:20030314T233000Z
DTEND:20030314T233000Z
X-MICROSOFT-CDO-ALLDAYEVENT:FALSE
SUMMARY:Visual Development
DESCRIPTION:Dr. Heidi Johnson\, Developmental Optometrist\, will conduct this lecture on how to find out  when a reading problem is vision based and what to do about it.   This lecture is free and open to the public.  For more information call Dr. Heidi Johnson at 228-4401.
X-ALT-DESC;FMTTYPE=text/html:Dr. Heidi Johnson\, Developmental Optometrist\, will conduct this lecture on how to find out  when a reading problem is vision based and what to do about it.   This lecture is free and open to the public.  For more information call Dr. Heidi Johnson at 228-4401.
LOCATION:Community Room\, Peter White Public Library
UID:e.1704.52853
SEQUENCE:3
DTSTAMP:20260421T215121Z
URL:https://business.marquette.org/events/details/visual-development-03-14-2003-52853
END:VEVENT

END:VCALENDAR
