BEGIN:VCALENDAR
VERSION:2.0
PRODID:-//ChamberMaster//Event Calendar 2.0//EN
METHOD:PUBLISH
X-PUBLISHED-TTL:P3D
REFRESH-INTERVAL:P3D
CALSCALE:GREGORIAN
BEGIN:VEVENT
DTSTART:20020708T140000Z
DTEND:20020708T140000Z
X-MICROSOFT-CDO-ALLDAYEVENT:FALSE
SUMMARY:W.A.K.O. Biking Activity
DESCRIPTION:Bring your bikes\, bike trailers and training wheels and join the Women and Kids Outdoors (W.A.K.O.) at MooseWood Nature Center for a ride from Presque Isle to Emma Joe's Coffee House for a shaved ice treat.  It is free to attend\, but donations are welcome.  For more information\, please call the MooseWood Nature Center at 228-6250 or visit www.mwnc.org.
X-ALT-DESC;FMTTYPE=text/html:Bring your bikes\, bike trailers and training wheels and join the Women and Kids Outdoors (W.A.K.O.) at MooseWood Nature Center for a ride from Presque Isle to Emma Joe's Coffee House for a shaved ice treat.  It is free to attend\, but donations are welcome.  For more information\, please call the MooseWood Nature Center at 228-6250 or visit www.mwnc.org.
LOCATION:MooseWood Nature Center
UID:e.1704.49561
SEQUENCE:3
DTSTAMP:20260422T163205Z
URL:https://business.marquette.org/events/details/w-a-k-o-biking-activity-07-08-2002-49561
END:VEVENT

END:VCALENDAR
