BEGIN:VCALENDAR
VERSION:2.0
PRODID:-//ChamberMaster//Event Calendar 2.0//EN
METHOD:PUBLISH
X-PUBLISHED-TTL:P3D
REFRESH-INTERVAL:P3D
CALSCALE:GREGORIAN
BEGIN:VEVENT
DTSTART:20020722T140000Z
DTEND:20020722T140000Z
X-MICROSOFT-CDO-ALLDAYEVENT:FALSE
SUMMARY:W.A.K.O. Bubbles\, Butterflies & Rainbows
DESCRIPTION:What combination could be better on a summer day?  Join Women and Kids Outdoors at the MooseWood Nature Center for fun outdoor activities.  For more information\, please call the MooseWood Nature Center at 228-6250 or visit www.mwnc.org.
X-ALT-DESC;FMTTYPE=text/html:What combination could be better on a summer day?  Join Women and Kids Outdoors at the MooseWood Nature Center for fun outdoor activities.  For more information\, please call the MooseWood Nature Center at 228-6250 or visit www.mwnc.org.
LOCATION:MooseWood Nature Center
UID:e.1704.49609
SEQUENCE:3
DTSTAMP:20260422T190610Z
URL:https://business.marquette.org/events/details/w-a-k-o-bubbles-butterflies-rainbows-07-22-2002-49609
END:VEVENT

END:VCALENDAR
