BEGIN:VCALENDAR
VERSION:2.0
PRODID:-//ChamberMaster//Event Calendar 2.0//EN
METHOD:PUBLISH
X-PUBLISHED-TTL:P3D
REFRESH-INTERVAL:P3D
CALSCALE:GREGORIAN
BEGIN:VEVENT
DTSTART:20020410T140000Z
DTEND:20020410T140000Z
X-MICROSOFT-CDO-ALLDAYEVENT:FALSE
SUMMARY:W.A.K.O. Earth Day Awareness
DESCRIPTION:MooseWood Nature Center's "Women and Kids Outdoors" celebrates Earth Day with a scavenger hunt\, awareness activities and potluck lunch.  It is free to attend\, but donations are appreciated.  Please call 228-6250 or visit www.mwnc.org for more information.
X-ALT-DESC;FMTTYPE=text/html:MooseWood Nature Center's "Women and Kids Outdoors" celebrates Earth Day with a scavenger hunt\, awareness activities and potluck lunch.  It is free to attend\, but donations are appreciated.  Please call 228-6250 or visit www.mwnc.org for more information.
LOCATION:MooseWood Nature Center
UID:e.1704.48161
SEQUENCE:3
DTSTAMP:20260422T223229Z
URL:https://business.marquette.org/events/details/w-a-k-o-earth-day-awareness-04-10-2002-48161
END:VEVENT

END:VCALENDAR
