BEGIN:VCALENDAR
VERSION:2.0
PRODID:-//ChamberMaster//Event Calendar 2.0//EN
METHOD:PUBLISH
X-PUBLISHED-TTL:P3D
REFRESH-INTERVAL:P3D
CALSCALE:GREGORIAN
BEGIN:VEVENT
DTSTART:20020305T143000Z
DTEND:20020409T160000Z
X-MICROSOFT-CDO-ALLDAYEVENT:FALSE
SUMMARY:Watercolor Class
DESCRIPTION:The Northern Center for Lifelong Learning will offer the six week long class "Watercolors for Intermediates" at Grace Methodist Church in Marquette.  The class will focus on intermediate painters who have watercolor experience or have attended one of the previous workshops.  The cost to attend is $18 for NCLL members and $36 for non-members plus a $5 fee for materials.  For more information or to register\, please call the NCLL office at 227-2979
X-ALT-DESC;FMTTYPE=text/html:The Northern Center for Lifelong Learning will offer the six week long class "Watercolors for Intermediates" at Grace Methodist Church in Marquette.  The class will focus on intermediate painters who have watercolor experience or have attended one of the previous workshops.  The cost to attend is $18 for NCLL members and $36 for non-members plus a $5 fee for materials.  For more information or to register\, please call the NCLL office at 227-2979
LOCATION:Grace Methodist Church in Marquette
UID:e.1704.47749
SEQUENCE:3
DTSTAMP:20260422T222840Z
URL:https://business.marquette.org/events/details/watercolor-class-03-05-2002-47749
END:VEVENT

END:VCALENDAR
