BEGIN:VCALENDAR
VERSION:2.0
PRODID:-//ChamberMaster//Event Calendar 2.0//EN
METHOD:PUBLISH
X-PUBLISHED-TTL:P3D
REFRESH-INTERVAL:P3D
CALSCALE:GREGORIAN
BEGIN:VEVENT
DTSTART:20010917T130000Z
DTEND:20010921T200000Z
X-MICROSOFT-CDO-ALLDAYEVENT:FALSE
SUMMARY:Watermedia Workshop
DESCRIPTION:Nationally renowned artist Kathleen Conover will be offering this week-long workshop for beginners and intermediate painters. The fee for this workshop is $250. Don't miss out on this wonderful opportunity! Call the Studio Gallery at 228-2466 to reserve your spot today.
X-ALT-DESC;FMTTYPE=text/html:Nationally renowned artist Kathleen Conover will be offering this week-long workshop for beginners and intermediate painters. The fee for this workshop is $250. Don't miss out on this wonderful opportunity! Call the Studio Gallery at 228-2466 to reserve your spot today.
LOCATION:Marquette Arts and Culture Center
UID:e.1704.45553
SEQUENCE:3
DTSTAMP:20260423T110417Z
URL:https://business.marquette.org/events/details/watermedia-workshop-09-17-2001-45553
END:VEVENT

END:VCALENDAR
