BEGIN:VCALENDAR
VERSION:2.0
PRODID:-//ChamberMaster//Event Calendar 2.0//EN
METHOD:PUBLISH
X-PUBLISHED-TTL:P3D
REFRESH-INTERVAL:P3D
CALSCALE:GREGORIAN
BEGIN:VEVENT
DTSTART:20020131T000000Z
DTEND:20020131T000000Z
X-MICROSOFT-CDO-ALLDAYEVENT:FALSE
SUMMARY:Watershed Partnership Annual Meeting
DESCRIPTION:The Central Lake Superior Watershed Partnership will be hosting its second Annual Meeting which is free and open to the public.  For more information please call the Marquette County Conservation District at 226-2461.
X-ALT-DESC;FMTTYPE=text/html:The Central Lake Superior Watershed Partnership will be hosting its second Annual Meeting which is free and open to the public.  For more information please call the Marquette County Conservation District at 226-2461. 
LOCATION:Peter White Community Room
UID:e.1704.47453
SEQUENCE:3
DTSTAMP:20260423T054713Z
URL:https://business.marquette.org/events/details/watershed-partnership-annual-meeting-01-30-2002-47453
END:VEVENT

END:VCALENDAR
