BEGIN:VCALENDAR
VERSION:2.0
PRODID:-//ChamberMaster//Event Calendar 2.0//EN
METHOD:PUBLISH
X-PUBLISHED-TTL:P3D
REFRESH-INTERVAL:P3D
CALSCALE:GREGORIAN
BEGIN:VEVENT
DTSTART:20201110T160000Z
DTEND:20201110T170000Z
X-MICROSOFT-CDO-ALLDAYEVENT:FALSE
SUMMARY:Webinar: What to Expect this Holiday Shopping Season
DESCRIPTION:Register here\n\nTune in to hear innovative ideas for the business community as we approach an unusual holiday season this year. The speaker will touch on social media promotions\, managing safety protocols\, and how to still create a positive shopping experience for customers.\n\nSpeaker: \n\nMatt Wagner\, National Main Street Center\, Inc. Vice President of Revitalization Programs\n\nIn collaboration with: the Greater Ishpeming Negaunee Chamber of Commerce and Downtown Development Authorities from Marquette\, Negaunee and Ishpeming.\n\nPlease submit questions for the panelists prior to the webinar by emailing Emily Tardiff at etardiff@marquette.org.
X-ALT-DESC;FMTTYPE=text/html:<div><span style="font-family:arial\;"><strong><span style="font-size: 22px\;">Register&nbsp\;</span><u><span style="font-size:14px\;"><a href="https://attendee.gotowebinar.com/register/773956540974966540" style="font-size: 22px\;">here</a></span></u></strong></span></div>\n\n<p style="color: rgb(54\, 73\, 95)\; font-family: Arial\, Verdana\, Helvetica\, sans-serif\; font-size: 14px\; white-space: pre-wrap\;"><span style="font-family:tahoma\;">Tune in to hear innovative ideas for the business community as we approach an unusual holiday season this year. The speaker will touch on social media promotions\, managing safety protocols\, and how to still create a positive shopping experience for customers.</span></p>\n\n<p style="color: rgb(54\, 73\, 95)\; font-family: Arial\, Verdana\, Helvetica\, sans-serif\; font-size: 14px\; white-space: pre-wrap\;"><span style="font-family:tahoma\;"><span style="font-size:14px\;"><strong>Speaker:&nbsp\;</strong></span></span></p>\n\n<p style="color: rgb(54\, 73\, 95)\; font-size: 14px\; white-space: pre-wrap\;"><span style="font-family:tahoma\;">Matt Wagner\, National Main Street Center\, Inc. Vice President of Revitalization Programs<br />\n<span style="font-size:10.5pt\;">In collaboration with: the Greater Ishpeming Negaunee Chamber of Commerce and </span></span><span style="color: rgb(54\, 73\, 95)\; font-family: tahoma\; font-size: 14px\; white-space: pre-wrap\;">Downtown Development Authorities from </span><span style="font-family:tahoma\;"><span style="font-size:10.5pt\;">Marquette\, Negaunee and Ishpeming.</span></span><br />\n<span style="font-family:tahoma\;"><span style="font-size:14px\;">Please submit questions for the panelists prior to the webinar by emailing Emily Tardiff at <a href="mailto:etardiff@marquette.org">etardiff@marquette.org</a>.&nbsp\;</span></span></p>\n
LOCATION:Webinar
UID:e.1704.143281
SEQUENCE:3
DTSTAMP:20260422T113755Z
URL:https://business.marquette.org/events/details/webinar-what-to-expect-this-holiday-shopping-season-143281
END:VEVENT

END:VCALENDAR
