BEGIN:VCALENDAR
VERSION:2.0
PRODID:-//ChamberMaster//Event Calendar 2.0//EN
METHOD:PUBLISH
X-PUBLISHED-TTL:P3D
REFRESH-INTERVAL:P3D
CALSCALE:GREGORIAN
BEGIN:VEVENT
DTSTART:20030221T003000Z
DTEND:20030221T003000Z
X-MICROSOFT-CDO-ALLDAYEVENT:FALSE
SUMMARY:Wellspring Dance Company to Perform
DESCRIPTION:This dynamic Michigan-based company's performances are filled with intensity and beauty that hold an eclectic appeal to the audience.  Advanced tickets are $6 for all students\, $13 for NMU faculty and $14 for general admission.  If purchased at the door\, the cost is $8 for students\, $15 for NMU faculty and $16 for general admission.  For more information call the NMU E-Z Ticket Office at 227-1032\, or visit www.nmu.edu/ticiets.
X-ALT-DESC;FMTTYPE=text/html:This dynamic Michigan-based company's performances are filled with intensity and beauty that hold an eclectic appeal to the audience.  Advanced tickets are $6 for all students\, $13 for NMU faculty and $14 for general admission.  If purchased at the door\, the cost is $8 for students\, $15 for NMU faculty and $16 for general admission.  For more information call the NMU E-Z Ticket Office at 227-1032\, or visit www.nmu.edu/ticiets.
LOCATION:Kaufman Auditorium
UID:e.1704.50593
SEQUENCE:3
DTSTAMP:20260421T225650Z
URL:https://business.marquette.org/events/details/wellspring-dance-company-to-perform-02-20-2003-50593
END:VEVENT

END:VCALENDAR
