BEGIN:VCALENDAR
VERSION:2.0
PRODID:-//ChamberMaster//Event Calendar 2.0//EN
METHOD:PUBLISH
X-PUBLISHED-TTL:P3D
REFRESH-INTERVAL:P3D
CALSCALE:GREGORIAN
BEGIN:VEVENT
DTSTART:20020426T040000Z
DTEND:20020426T040000Z
X-MICROSOFT-CDO-ALLDAYEVENT:FALSE
SUMMARY:Western Marquette County Day of Excellence
DESCRIPTION:Cleveland-Cliffs and the five western Marquette County schools will hold their 12th annual Day of Excellence with learning tours of the mining industry and a recognition breakfast and luncheon for Marquette Area Public Schools\, Father Marquette Catholic Central School System and Powell Township Schools.  For more information please call 226-6591.
X-ALT-DESC;FMTTYPE=text/html:Cleveland-Cliffs and the five western Marquette County schools will hold their 12th annual Day of Excellence with learning tours of the mining industry and a recognition breakfast and luncheon for Marquette Area Public Schools\, Father Marquette Catholic Central School System and Powell Township Schools.  For more information please call 226-6591.
LOCATION:
UID:e.1704.48253
SEQUENCE:3
DTSTAMP:20260422T223313Z
URL:https://business.marquette.org/events/details/western-marquette-county-day-of-excellence-04-26-2002-48253
END:VEVENT

END:VCALENDAR
