BEGIN:VCALENDAR
VERSION:2.0
PRODID:-//ChamberMaster//Event Calendar 2.0//EN
METHOD:PUBLISH
X-PUBLISHED-TTL:P3D
REFRESH-INTERVAL:P3D
CALSCALE:GREGORIAN
BEGIN:VEVENT
DTSTART:20020523T220000Z
DTEND:20020523T220000Z
X-MICROSOFT-CDO-ALLDAYEVENT:FALSE
SUMMARY:Wetmore Pond Wildflower Walk
DESCRIPTION:Participants will meet at the Wetmore Pond parking lot off of County Road 550 for a short hike to discover the colorful world of spring wildflowers.  Wildflower I.D. books will be provided.  The cost to participate is free\, but donations are welcome.  For more information\, please contact the Center at 228-6250 or visit www.mwnc.org
X-ALT-DESC;FMTTYPE=text/html:Participants will meet at the Wetmore Pond parking lot off of County Road 550 for a short hike to discover the colorful world of spring wildflowers.  Wildflower I.D. books will be provided.  The cost to participate is free\, but donations are welcome.  For more information\, please contact the Center at 228-6250 or visit www.mwnc.org
LOCATION:Wetmore Pond - Off of County Road 550
UID:e.1704.48733
SEQUENCE:3
DTSTAMP:20260422T202827Z
URL:https://business.marquette.org/events/details/wetmore-pond-wildflower-walk-05-23-2002-48733
END:VEVENT

END:VCALENDAR
