BEGIN:VCALENDAR
VERSION:2.0
PRODID:-//ChamberMaster//Event Calendar 2.0//EN
METHOD:PUBLISH
X-PUBLISHED-TTL:P3D
REFRESH-INTERVAL:P3D
CALSCALE:GREGORIAN
BEGIN:VEVENT
DTSTART:20020221T140000Z
DTEND:20020221T140000Z
X-MICROSOFT-CDO-ALLDAYEVENT:FALSE
SUMMARY:When MIOSHA Visits
DESCRIPTION:Attention all CEO's\, safety administrators and all managers concerned about or involved in issues of workplace safety. Is your organization ready to pass a MIOSHA inspection? Find out when you attend "When MIOSHA Visits" at the Ramada Inn. The cost to attend is $15 for non-members of the Lake Superior Community Partnership and $10 for members. Registration is almost full so call today!
X-ALT-DESC;FMTTYPE=text/html:Attention all CEO's\, safety administrators and all managers concerned about or involved in issues of workplace safety. Is your organization ready to pass a MIOSHA inspection? Find out when you attend "When MIOSHA Visits" at the Ramada Inn. The cost to attend is $15 for non-members of the Lake Superior Community Partnership and $10 for members. Registration is almost full so call today!
LOCATION:Ramada Inn
UID:e.1704.47577
SEQUENCE:3
DTSTAMP:20260423T023806Z
URL:https://business.marquette.org/events/details/when-miosha-visits-02-21-2002-47577
END:VEVENT

END:VCALENDAR
