BEGIN:VCALENDAR
VERSION:2.0
PRODID:-//ChamberMaster//Event Calendar 2.0//EN
METHOD:PUBLISH
X-PUBLISHED-TTL:P3D
REFRESH-INTERVAL:P3D
CALSCALE:GREGORIAN
BEGIN:VEVENT
DTSTART:20020620T170000Z
DTEND:20020620T170000Z
X-MICROSOFT-CDO-ALLDAYEVENT:FALSE
SUMMARY:Wildcat Club Golf Tournament
DESCRIPTION:Join us for the 27th Annual Wildcat Club Golf Tournament to be held at the Marquette Golf and Country Club.  All dollars raised go directly to the Wildcat Club.  The Club's primary function is to raise money for the NMU Athletic Department.  The registration fee is $75 and includes a round of golf\, steak dinner\, prizes\, golfer goodie bags\, refreshments on the course\, a silent auction and a tax deductible gift to NMU.  For more information\, please contact Dan at the NMU Athletic Department at 227-2105.
X-ALT-DESC;FMTTYPE=text/html:Join us for the 27th Annual Wildcat Club Golf Tournament to be held at the Marquette Golf and Country Club.  All dollars raised go directly to the Wildcat Club.  The Club's primary function is to raise money for the NMU Athletic Department.  The registration fee is $75 and includes a round of golf\, steak dinner\, prizes\, golfer goodie bags\, refreshments on the course\, a silent auction and a tax deductible gift to NMU.  For more information\, please contact Dan at the NMU Athletic Department at 227-2105.
LOCATION:Marquette Golf & Country Club
UID:e.1704.49333
SEQUENCE:3
DTSTAMP:20260422T190923Z
URL:https://business.marquette.org/events/details/wildcat-club-golf-tournament-06-20-2002-49333
END:VEVENT

END:VCALENDAR
