BEGIN:VCALENDAR
VERSION:2.0
PRODID:-//ChamberMaster//Event Calendar 2.0//EN
METHOD:PUBLISH
X-PUBLISHED-TTL:P3D
REFRESH-INTERVAL:P3D
CALSCALE:GREGORIAN
BEGIN:VEVENT
DTSTART:20020819T220000Z
DTEND:20020819T220000Z
X-MICROSOFT-CDO-ALLDAYEVENT:FALSE
SUMMARY:Wildflower Folklore
DESCRIPTION:Learn how our local plants got their names.  It is free to attend\, but donations are welcome.  For more information\, please contact the MooseWood Nature Center at 228-6250 or visit www.mwnc.org.
X-ALT-DESC;FMTTYPE=text/html:Learn how our local plants got their names.  It is free to attend\, but donations are welcome.  For more information\, please contact the MooseWood Nature Center at 228-6250 or visit www.mwnc.org.
LOCATION:MooseWood Nature Center
UID:e.1704.49905
SEQUENCE:3
DTSTAMP:20260422T142643Z
URL:https://business.marquette.org/events/details/wildflower-folklore-08-19-2002-49905
END:VEVENT

END:VCALENDAR
