BEGIN:VCALENDAR
VERSION:2.0
PRODID:-//ChamberMaster//Event Calendar 2.0//EN
METHOD:PUBLISH
X-PUBLISHED-TTL:P3D
REFRESH-INTERVAL:P3D
CALSCALE:GREGORIAN
BEGIN:VEVENT
DTSTART:20010510T040000Z
DTEND:20010510T040000Z
X-MICROSOFT-CDO-ALLDAYEVENT:FALSE
SUMMARY:Wildflower Outing
DESCRIPTION:NCLL will hold this event. Participants are to meet in the parking lot of the Superior Dome so that they can car pool to the Dukes Forest Area and Laughing Whitefish Falls. Kathy Peters will lead the outing. Participants are encouraged to bring a wildflower guide\, lunch\, water and wear appropriate clothing. The cost is $3 for NCLL members and $5 for non-members. Participants are asked to register by May 3rd. For more information or to register please call 227-2979.
X-ALT-DESC;FMTTYPE=text/html:NCLL will hold this event. Participants are to meet in the parking lot of the Superior Dome so that they can car pool to the Dukes Forest Area and Laughing Whitefish Falls. Kathy Peters will lead the outing. Participants are encouraged to bring a wildflower guide\, lunch\, water and wear appropriate clothing. The cost is $3 for NCLL members and $5 for non-members. Participants are asked to register by May 3rd. For more information or to register please call 227-2979.
LOCATION:Superior Dome parking lot
UID:e.1704.44153
SEQUENCE:3
DTSTAMP:20260423T212255Z
URL:https://business.marquette.org/events/details/wildflower-outing-05-10-2001-44153
END:VEVENT

END:VCALENDAR
