BEGIN:VCALENDAR
VERSION:2.0
PRODID:-//ChamberMaster//Event Calendar 2.0//EN
METHOD:PUBLISH
X-PUBLISHED-TTL:P3D
REFRESH-INTERVAL:P3D
CALSCALE:GREGORIAN
BEGIN:VEVENT
DTSTART:20020621T200000Z
DTEND:20020621T200000Z
X-MICROSOFT-CDO-ALLDAYEVENT:FALSE
SUMMARY:Wildflowers of Presque Isle
DESCRIPTION:Find out which flowers are blooming in the park in late June.  Wildflower books are provided.  It is free to participate\, but donations are welcome.  For more information\, please call the Center at 228-6250 or visit www.mwnc.org.
X-ALT-DESC;FMTTYPE=text/html:Find out which flowers are blooming in the park in late June.  Wildflower books are provided.  It is free to participate\, but donations are welcome.  For more information\, please call the Center at 228-6250 or visit www.mwnc.org.
LOCATION:MooseWood Nature Center
UID:e.1704.49157
SEQUENCE:3
DTSTAMP:20260422T195218Z
URL:https://business.marquette.org/events/details/wildflowers-of-presque-isle-06-21-2002-49157
END:VEVENT

END:VCALENDAR
