BEGIN:VCALENDAR
VERSION:2.0
PRODID:-//ChamberMaster//Event Calendar 2.0//EN
METHOD:PUBLISH
X-PUBLISHED-TTL:P3D
REFRESH-INTERVAL:P3D
CALSCALE:GREGORIAN
BEGIN:VEVENT
DTSTART:20021106T173000Z
DTEND:20021106T173000Z
X-MICROSOFT-CDO-ALLDAYEVENT:FALSE
SUMMARY:William Durban
DESCRIPTION:William Durbin will be signing autographs from 12:30 to 2:30 \, 3:00 to 5:00 and from 6:00 and 8:00.  From 7:00 to 8:00\, Mr. Durbin will give a speech.  For more information call Cathy S. at 228-9510.
X-ALT-DESC;FMTTYPE=text/html:William Durbin will be signing autographs from 12:30 to 2:30 \, 3:00 to 5:00 and from 6:00 and 8:00.  From 7:00 to 8:00\, Mr. Durbin will give a speech.  For more information call Cathy S. at 228-9510.
LOCATION:Shiras Room\, Peter White Public Library
UID:e.1704.51297
SEQUENCE:3
DTSTAMP:20260422T034528Z
URL:https://business.marquette.org/events/details/william-durban-11-06-2002-51297
END:VEVENT

END:VCALENDAR
