BEGIN:VCALENDAR
VERSION:2.0
PRODID:-//ChamberMaster//Event Calendar 2.0//EN
METHOD:PUBLISH
X-PUBLISHED-TTL:P3D
REFRESH-INTERVAL:P3D
CALSCALE:GREGORIAN
BEGIN:VEVENT
DTSTART:20020209T050000Z
DTEND:20020213T050000Z
X-MICROSOFT-CDO-ALLDAYEVENT:FALSE
SUMMARY:Winter Fest 2002 Snow Sculpture Tournament
DESCRIPTION:The city of Marquette is sponsoring its 3rd annual snow sculpture tournament.  The competition begins on the 9th and ends on the 13th with the final judging.  Prizes will be awarded to the winners.  There is a $10 registration fee. For more information please call Reetha Tweedie at 228-0472.
X-ALT-DESC;FMTTYPE=text/html:The city of Marquette is sponsoring its 3rd annual snow sculpture tournament.  The competition begins on the 9th and ends on the 13th with the final judging.  Prizes will be awarded to the winners.  There is a $10 registration fee. For more information please call Reetha Tweedie at 228-0472.
LOCATION:Lower Harbor Park
UID:e.1704.47337
SEQUENCE:3
DTSTAMP:20260423T025018Z
URL:https://business.marquette.org/events/details/winter-fest-2002-snow-sculpture-tournament-02-09-2002-47337
END:VEVENT

END:VCALENDAR
