BEGIN:VCALENDAR
VERSION:2.0
PRODID:-//ChamberMaster//Event Calendar 2.0//EN
METHOD:PUBLISH
X-PUBLISHED-TTL:P3D
REFRESH-INTERVAL:P3D
CALSCALE:GREGORIAN
BEGIN:VEVENT
DTSTART:20030215T023000Z
DTEND:20030215T023000Z
X-MICROSOFT-CDO-ALLDAYEVENT:FALSE
SUMMARY:Winter Fest Fire Works
DESCRIPTION:Don't miss the fire works!  For more information call the Marquette Arts and Culture  Center at 228-0472.
X-ALT-DESC;FMTTYPE=text/html:Don't miss the fire works!  For more information call the Marquette Arts and Culture  Center at 228-0472.
LOCATION:Lower Harbor Park
UID:e.1704.51877
SEQUENCE:3
DTSTAMP:20260421T221528Z
URL:https://business.marquette.org/events/details/winter-fest-fire-works-02-14-2003-51877
END:VEVENT

END:VCALENDAR
