BEGIN:VCALENDAR
VERSION:2.0
PRODID:-//ChamberMaster//Event Calendar 2.0//EN
METHOD:PUBLISH
X-PUBLISHED-TTL:P3D
REFRESH-INTERVAL:P3D
CALSCALE:GREGORIAN
BEGIN:VEVENT
DTSTART:20020131T000000Z
DTEND:20020131T000000Z
X-MICROSOFT-CDO-ALLDAYEVENT:FALSE
SUMMARY:Winter Science Family Fun Night
DESCRIPTION:The Seaborg Science Center is sponsoring a Winter Science K-4 Family Fun Night.  Kindergarten through fourth grade students and their parents will participate in science investigation activities including: Perserving Snowflakes\, Animal Adaptations\, Winter Animal Tracks and much more.  There is a $2 per person registration fee. Call Jan at 227-2002 to register.
X-ALT-DESC;FMTTYPE=text/html:The Seaborg Science Center is sponsoring a Winter Science K-4 Family Fun Night.  Kindergarten through fourth grade students and their parents will participate in science investigation activities including: Perserving Snowflakes\, Animal Adaptations\, Winter Animal Tracks and much more.  There is a $2 per person registration fee. Call Jan at 227-2002 to register.
LOCATION:Seaborg Science Center - NMU
UID:e.1704.47461
SEQUENCE:3
DTSTAMP:20260423T043337Z
URL:https://business.marquette.org/events/details/winter-science-family-fun-night-01-30-2002-47461
END:VEVENT

END:VCALENDAR
