BEGIN:VCALENDAR
VERSION:2.0
PRODID:-//ChamberMaster//Event Calendar 2.0//EN
METHOD:PUBLISH
X-PUBLISHED-TTL:P3D
REFRESH-INTERVAL:P3D
CALSCALE:GREGORIAN
BEGIN:VEVENT
DTSTART:20020112T173000Z
DTEND:20020112T173000Z
X-MICROSOFT-CDO-ALLDAYEVENT:FALSE
SUMMARY:Winter Survival Skills
DESCRIPTION:Learn how to biuld a fire in the snow\, how to dress appropriately for the elements\, what kind of energy equipment to bring along and how to build a snow shelter.  Dress to get snowy! The cost to attend is $3 for non-members and free to members.  For more information please call the Center at 228-6250.
X-ALT-DESC;FMTTYPE=text/html:Learn how to biuld a fire in the snow\, how to dress appropriately for the elements\, what kind of energy equipment to bring along and how to build a snow shelter.  Dress to get snowy! The cost to attend is $3 for non-members and free to members.  For more information please call the Center at 228-6250.
LOCATION:MooseWood Nature Center
UID:e.1704.47377
SEQUENCE:3
DTSTAMP:20260423T044856Z
URL:https://business.marquette.org/events/details/winter-survival-skills-01-12-2002-47377
END:VEVENT

END:VCALENDAR
