BEGIN:VCALENDAR
VERSION:2.0
PRODID:-//ChamberMaster//Event Calendar 2.0//EN
METHOD:PUBLISH
X-PUBLISHED-TTL:P3D
REFRESH-INTERVAL:P3D
CALSCALE:GREGORIAN
BEGIN:VEVENT
DTSTART:20020312T140000Z
DTEND:20020312T140000Z
X-MICROSOFT-CDO-ALLDAYEVENT:FALSE
SUMMARY:Wizard of Ads Seminar
DESCRIPTION:Q107\, WMQT will be presenting the "Wizard of Ads" seminar. Tickets are free but must be purchased in advance with pre-registration required.  "It's time for your business to get ludicrously\, ridiculously\, fabulously rich!"  For more information please cotact Tom Mogush at 485-5523.
X-ALT-DESC;FMTTYPE=text/html:Q107\, WMQT will be presenting the "Wizard of Ads" seminar. Tickets are free but must be purchased in advance with pre-registration required.  "It's time for your business to get ludicrously\, ridiculously\, fabulously rich!"  For more information please cotact Tom Mogush at 485-5523.
LOCATION:Great Lake's Rooms - NMU
UID:e.1704.44145
SEQUENCE:3
DTSTAMP:20260423T012234Z
URL:https://business.marquette.org/events/details/wizard-of-ads-seminar-03-12-2002-44145
END:VEVENT

END:VCALENDAR
