BEGIN:VCALENDAR
VERSION:2.0
PRODID:-//ChamberMaster//Event Calendar 2.0//EN
METHOD:PUBLISH
X-PUBLISHED-TTL:P3D
REFRESH-INTERVAL:P3D
CALSCALE:GREGORIAN
BEGIN:VEVENT
DTSTART:20011012T170000Z
DTEND:20011012T170000Z
X-MICROSOFT-CDO-ALLDAYEVENT:FALSE
SUMMARY:Women's Soccer Game
DESCRIPTION:Northern Michigan University's women Wildcats will take on Nationally Ranked Grand Valley State in a GLIAC Game at home. Tickets are available at the NMU E-Z Ticket office or by calling 227-1032
X-ALT-DESC;FMTTYPE=text/html:Northern Michigan University's women Wildcats will take on Nationally Ranked Grand Valley State in a GLIAC Game at home. Tickets are available at the NMU E-Z Ticket office or by calling 227-1032
LOCATION:SUperior Dome
UID:e.1704.46085
SEQUENCE:3
DTSTAMP:20260423T110849Z
URL:https://business.marquette.org/events/details/women-s-soccer-game-10-12-2001-46085
END:VEVENT

END:VCALENDAR
